BEGIN:VCALENDAR
PRODID:-//PUBBLE//agenda//NL
VERSION:2.0
METHOD:PUBLISH
BEGIN:VEVENT
DTSTART:20260502T080000Z
DTEND:20260502T130000Z
DTSTAMP:20260422T185456Z
UID:3af44f3c-da7f-45a1-8c55-8315f87df82d
CREATED:20260422T185456Z
NAME:Boekenmarkt Gummaruskerk kijkopsteenbergen.nl
X-WR-CALNAME:Boekenmarkt Gummaruskerk
X-ALT-DESC;FMTTYPE=text/html:<a href='/agenda/2026/5/2/boekenmarkt-gummaruskerk-34558'>/agenda/2026/5/2/boekenmarkt-gummaruskerk-34558</a> || <p>Op zaterdag 2 mei is er weer een boekenmarkt in de Gummaruskerk. Liefhebbers van romans, thrillers en kunst-, geschiedenis-, natuur- en kookboeken kunnen tussen 10:00 en 15:00 uur komen struinen door het grote aanbod, ook is er een ruime sortering kinderboeken aanwezig. Ook legpuzzels, cd’s, lp’s en dvd’s kunnen weer voor een zacht prijsje aangekocht worden en zoals altijd zijn er heerlijke Gummaruskoeken te koop. De opbrengst van alle verkopen is bestemd voor het onderhoud van de kerk.</p>
DESCRIPTION:<a href='/agenda/2026/5/2/boekenmarkt-gummaruskerk-34558'>/agenda/2026/5/2/boekenmarkt-gummaruskerk-34558</a> || <p>Op zaterdag 2 mei is er weer een boekenmarkt in de Gummaruskerk. Liefhebbers van romans, thrillers en kunst-, geschiedenis-, natuur- en kookboeken kunnen tussen 10:00 en 15:00 uur komen struinen door het grote aanbod, ook is er een ruime sortering kinderboeken aanwezig. Ook legpuzzels, cd’s, lp’s en dvd’s kunnen weer voor een zacht prijsje aangekocht worden en zoals altijd zijn er heerlijke Gummaruskoeken te koop. De opbrengst van alle verkopen is bestemd voor het onderhoud van de kerk.</p>
LAST-MODIFIED:20260422T185456Z
LOCATION: Gummaruskerk | Westdam 83 Steenbergen
SEQUENCE:0
STATUS:CONFIRMED
SUMMARY:Boekenmarkt Gummaruskerk
TRANSP:OPAQUE
END:VEVENT
END:VCALENDAR
