BEGIN:VCALENDAR
PRODID:-//PUBBLE//agenda//NL
VERSION:2.0
METHOD:PUBLISH
BEGIN:VEVENT
DTSTART:20260428T113000Z
DTEND:20260428T141500Z
DTSTAMP:20260422T184833Z
UID:b1c51b6f-72ff-434c-834a-372890007ed0
CREATED:20260422T184833Z
NAME:Kaartmiddag SVW kijkopsteenbergen.nl
X-WR-CALNAME:Kaartmiddag SVW
X-ALT-DESC;FMTTYPE=text/html:<a href='/agenda/2026/4/28/kaartmiddag-svw-34557'>/agenda/2026/4/28/kaartmiddag-svw-34557</a> || <p>Op dinsdag 28 april organiseert Seniorenvereniging Welberg wederom een rik- en jokermiddag. Vanaf 13:00 uur zijn alle liefhebbers van deze kaartspellen - dus ook niet-leden - welkom in gemeenschapshuis de Vaert, de middag vangt aan om 13:30 uur. Rond 16:15 uur worden de kaarten weer opgeborgen en keren de deelnemers huiswaarts.</p>
DESCRIPTION:<a href='/agenda/2026/4/28/kaartmiddag-svw-34557'>/agenda/2026/4/28/kaartmiddag-svw-34557</a> || <p>Op dinsdag 28 april organiseert Seniorenvereniging Welberg wederom een rik- en jokermiddag. Vanaf 13:00 uur zijn alle liefhebbers van deze kaartspellen - dus ook niet-leden - welkom in gemeenschapshuis de Vaert, de middag vangt aan om 13:30 uur. Rond 16:15 uur worden de kaarten weer opgeborgen en keren de deelnemers huiswaarts.</p>
LAST-MODIFIED:20260422T184833Z
LOCATION: Gemeenschapshuis de Vaert | Piet Snoeijersstraat 2 Welberg
SEQUENCE:0
STATUS:CONFIRMED
SUMMARY:Kaartmiddag SVW
TRANSP:OPAQUE
END:VEVENT
END:VCALENDAR
