BEGIN:VCALENDAR
PRODID:-//PUBBLE//agenda//NL
VERSION:2.0
METHOD:PUBLISH
BEGIN:VEVENT
DTSTART:20260422T094543Z
DTEND:20260422T104543Z
DTSTAMP:20260422T131412Z
UID:f54764e0-ccff-40f2-a91c-805efd554642
CREATED:20260422T131412Z
NAME:Avond4Daagse Dinteloord kijkopsteenbergen.nl
X-WR-CALNAME:Avond4Daagse Dinteloord
X-ALT-DESC;FMTTYPE=text/html:<a href='/agenda/2026/6/2/avond4daagse-dinteloord-34546'>/agenda/2026/6/2/avond4daagse-dinteloord-34546</a> || <p pstyle="Intro">Op maandag 1 juni wordt het startschot gegeven van de eerste officiële Avond4daagse in Dinteloord. Stichting Suikerstad Sportief heeft de organisatie van het vierdaagse wandelevenement op zich genomen en nodigt wandelliefhebbers van harte uit zich in te schrijven via <a href="https://www.suikerstad-sportief.nl/" target="_blank">www.suikerstad-sportief.nl</a> .&nbsp;</p><p>Van 1 tot en met 4 juni is er iedere dag een wandeltocht van 5 of 10 kilometer die om 18:00 uur start bij Sporthal de Buitelstee. Voorinschrijven is mogelijk via de website en kan tot uiterlijk zondag 31 mei 20:00 uur. Kosten voor deelname bedragen 3 euro per persoon bij voorinschrijving. Ter plaatse inschrijven is ook mogelijk, dit kan iedere wandelavond vanaf 17:30 uur voor 5 euro per persoon.&nbsp;</p><p>Daarnaast is Stichting Suikerstad Sportief nog op zoek naar enthousiaste vrijwilligers en/of verkeersregelaars die willen ondersteunen bij de organisatie van de avond4daagse. Geïnteresseerden kunnen zich aanmelden voor een dag, meerdere dagen of het gehele evenement via <a href="mailto:info@suikerstad-sportief.nl">info@suikerstad-sportief.nl</a> .</p>
DESCRIPTION:<a href='/agenda/2026/6/2/avond4daagse-dinteloord-34546'>/agenda/2026/6/2/avond4daagse-dinteloord-34546</a> || <p pstyle="Intro">Op maandag 1 juni wordt het startschot gegeven van de eerste officiële Avond4daagse in Dinteloord. Stichting Suikerstad Sportief heeft de organisatie van het vierdaagse wandelevenement op zich genomen en nodigt wandelliefhebbers van harte uit zich in te schrijven via <a href="https://www.suikerstad-sportief.nl/" target="_blank">www.suikerstad-sportief.nl</a> .&nbsp;</p><p>Van 1 tot en met 4 juni is er iedere dag een wandeltocht van 5 of 10 kilometer die om 18:00 uur start bij Sporthal de Buitelstee. Voorinschrijven is mogelijk via de website en kan tot uiterlijk zondag 31 mei 20:00 uur. Kosten voor deelname bedragen 3 euro per persoon bij voorinschrijving. Ter plaatse inschrijven is ook mogelijk, dit kan iedere wandelavond vanaf 17:30 uur voor 5 euro per persoon.&nbsp;</p><p>Daarnaast is Stichting Suikerstad Sportief nog op zoek naar enthousiaste vrijwilligers en/of verkeersregelaars die willen ondersteunen bij de organisatie van de avond4daagse. Geïnteresseerden kunnen zich aanmelden voor een dag, meerdere dagen of het gehele evenement via <a href="mailto:info@suikerstad-sportief.nl">info@suikerstad-sportief.nl</a> .</p>
LAST-MODIFIED:20260422T131412Z
LOCATION: Sporthal de Buitelstee | Van Oldenbarneveltstraat 2 Dinteloord
SEQUENCE:0
STATUS:CONFIRMED
SUMMARY:Avond4Daagse Dinteloord
TRANSP:OPAQUE
END:VEVENT
END:VCALENDAR
