BEGIN:VCALENDAR
PRODID:-//PUBBLE//agenda//NL
VERSION:2.0
METHOD:PUBLISH
BEGIN:VEVENT
DTSTART:20260420T113000Z
DTEND:20260420T123000Z
DTSTAMP:20260422T092512Z
UID:7f3dfb2c-0d34-4a0b-aac0-cf1a1a7c3ead
CREATED:20260422T092512Z
NAME:Rikmiddag Steenbergse Actieve Senioren kijkopsteenbergen.nl
X-WR-CALNAME:Rikmiddag Steenbergse Actieve Senioren
X-ALT-DESC;FMTTYPE=text/html:<a href='/agenda/2026/4/20/rikmiddag-steenbergse-actieve-senioren-34509'>/agenda/2026/4/20/rikmiddag-steenbergse-actieve-senioren-34509</a> || <p>Aanstaande maandagmiddag 20 april organiseren de Steenbergse Actieve Senioren een rikmiddag in de foyer van theaterschool Myra Ceti in de Wouwsestraat. Ook nieuwe belangstellende kaarters zijn dan welkom. Het kaartspel begint om 13:30 uur en er wordt in drie rondes van 10 partijen gespeeld tot ca. 16:00 uur.</p>
DESCRIPTION:<a href='/agenda/2026/4/20/rikmiddag-steenbergse-actieve-senioren-34509'>/agenda/2026/4/20/rikmiddag-steenbergse-actieve-senioren-34509</a> || <p>Aanstaande maandagmiddag 20 april organiseren de Steenbergse Actieve Senioren een rikmiddag in de foyer van theaterschool Myra Ceti in de Wouwsestraat. Ook nieuwe belangstellende kaarters zijn dan welkom. Het kaartspel begint om 13:30 uur en er wordt in drie rondes van 10 partijen gespeeld tot ca. 16:00 uur.</p>
LAST-MODIFIED:20260422T092512Z
LOCATION: Myra Ceti | Wouwsestraat 49 Steenbergen
SEQUENCE:0
STATUS:CONFIRMED
SUMMARY:Rikmiddag Steenbergse Actieve Senioren
TRANSP:OPAQUE
END:VEVENT
END:VCALENDAR
