BEGIN:VCALENDAR
PRODID:-//PUBBLE//agenda//NL
VERSION:2.0
METHOD:PUBLISH
BEGIN:VEVENT
DTSTART:20260421T113000Z
DTEND:20260421T141500Z
DTSTAMP:20260422T105851Z
UID:c917002a-7e0e-4ef3-95e8-24b6c5f629bc
CREATED:20260422T105851Z
NAME:Bingo Seniorenvereniging Welberg kijkopsteenbergen.nl
X-WR-CALNAME:Bingo Seniorenvereniging Welberg
X-ALT-DESC;FMTTYPE=text/html:<a href='/agenda/2026/4/21/bingo-seniorenvereniging-welberg-34508'>/agenda/2026/4/21/bingo-seniorenvereniging-welberg-34508</a> || <p>Fien Cools van Seniorenvereniging Welberg (SVW) meldt dat dinsdag 21 april alle bingoliefhebbers - dus ook niet-leden van de seniorenvereniging - welkom zijn in gemeenschapshuis De Vaert. Daar wordt vanaf 13:30 uur naar hartenlust het bingospel gespeeld. De zaal is open vanaf 13:00 uur. Rond de klok van 16:15 uur wordt de bingomiddag afgesloten.</p>
DESCRIPTION:<a href='/agenda/2026/4/21/bingo-seniorenvereniging-welberg-34508'>/agenda/2026/4/21/bingo-seniorenvereniging-welberg-34508</a> || <p>Fien Cools van Seniorenvereniging Welberg (SVW) meldt dat dinsdag 21 april alle bingoliefhebbers - dus ook niet-leden van de seniorenvereniging - welkom zijn in gemeenschapshuis De Vaert. Daar wordt vanaf 13:30 uur naar hartenlust het bingospel gespeeld. De zaal is open vanaf 13:00 uur. Rond de klok van 16:15 uur wordt de bingomiddag afgesloten.</p>
LAST-MODIFIED:20260422T105851Z
LOCATION: Gemeenschapshuis de Vaert | Piet Snoeijersstraat 2 Welberg
SEQUENCE:0
STATUS:CONFIRMED
SUMMARY:Bingo Seniorenvereniging Welberg
TRANSP:OPAQUE
END:VEVENT
END:VCALENDAR
