BEGIN:VCALENDAR
PRODID:-//PUBBLE//agenda//NL
VERSION:2.0
METHOD:PUBLISH
BEGIN:VEVENT
DTSTART:20260423T113000Z
DTEND:20260423T123000Z
DTSTAMP:20260422T111541Z
UID:3b066a96-33a6-427c-9199-bd4c3df808a5
CREATED:20260422T111541Z
NAME:Bingo in ‘t Cromwiel kijkopsteenbergen.nl
X-WR-CALNAME:Bingo in ‘t Cromwiel
X-ALT-DESC;FMTTYPE=text/html:<a href='/agenda/2026/4/23/bingo-in-t-cromwiel-34507'>/agenda/2026/4/23/bingo-in-t-cromwiel-34507</a> || <p>Anja Robbeson en Riet Nijssen laten weten dat er weer een bingo georganiseerd wordt in ‘t Cromwiel. Liefhebbers zijn hier op 23 april welkom vanaf 13:00 uur, de bingo vangt vervolgens aan om 13:30 uur. Kosten voor een boekje van 12 rondes bedragen 5 euro.</p>
DESCRIPTION:<a href='/agenda/2026/4/23/bingo-in-t-cromwiel-34507'>/agenda/2026/4/23/bingo-in-t-cromwiel-34507</a> || <p>Anja Robbeson en Riet Nijssen laten weten dat er weer een bingo georganiseerd wordt in ‘t Cromwiel. Liefhebbers zijn hier op 23 april welkom vanaf 13:00 uur, de bingo vangt vervolgens aan om 13:30 uur. Kosten voor een boekje van 12 rondes bedragen 5 euro.</p>
LAST-MODIFIED:20260422T111541Z
LOCATION: 't Cromwiel | Krommeweg 1 Steenbergen
SEQUENCE:0
STATUS:CONFIRMED
SUMMARY:Bingo in ‘t Cromwiel
TRANSP:OPAQUE
END:VEVENT
END:VCALENDAR
