BEGIN:VCALENDAR
PRODID:-//PUBBLE//agenda//NL
VERSION:2.0
METHOD:PUBLISH
BEGIN:VEVENT
DTSTART:20260421T103000Z
DTEND:20260421T113000Z
DTSTAMP:20260422T091536Z
UID:1b8900cd-3bd7-4347-9fba-995016ac1a21
CREATED:20260422T091536Z
NAME:Excursie Vrouwen van Nu kijkopsteenbergen.nl
X-WR-CALNAME:Excursie Vrouwen van Nu
X-ALT-DESC;FMTTYPE=text/html:<a href='/agenda/2026/4/21/excursie-vrouwen-van-nu-34506'>/agenda/2026/4/21/excursie-vrouwen-van-nu-34506</a> || <p pstyle="Intro">Na een zeer geslaagde lentefeest gaan de leden van Vrouwen van Nu Steenbergen weer op excursie. Deze keer staat een bezoek aan goudsmid ‘Art Object’ in Bergen op Zoom op het programma. Op dinsdag 21 april vertrekt men om 12:30 uur bij ‘t Cromwiel. Bij de goudsmid aan de Guido Gezellelaan kunnen de leden vervolgens de collectie handgemaakte sieraden bewonderen en krijgen zij uitleg over hoe deze sieraden tot stand komen.</p>
DESCRIPTION:<a href='/agenda/2026/4/21/excursie-vrouwen-van-nu-34506'>/agenda/2026/4/21/excursie-vrouwen-van-nu-34506</a> || <p pstyle="Intro">Na een zeer geslaagde lentefeest gaan de leden van Vrouwen van Nu Steenbergen weer op excursie. Deze keer staat een bezoek aan goudsmid ‘Art Object’ in Bergen op Zoom op het programma. Op dinsdag 21 april vertrekt men om 12:30 uur bij ‘t Cromwiel. Bij de goudsmid aan de Guido Gezellelaan kunnen de leden vervolgens de collectie handgemaakte sieraden bewonderen en krijgen zij uitleg over hoe deze sieraden tot stand komen.</p>
LAST-MODIFIED:20260422T091536Z
LOCATION: 't Cromwiel | Krommeweg 1 Steenbergen
SEQUENCE:0
STATUS:CONFIRMED
SUMMARY:Excursie Vrouwen van Nu
TRANSP:OPAQUE
END:VEVENT
END:VCALENDAR
