BEGIN:VCALENDAR
PRODID:-//PUBBLE//agenda//NL
VERSION:2.0
METHOD:PUBLISH
BEGIN:VEVENT
DTSTART:20260427T113000Z
DTEND:20260427T123000Z
DTSTAMP:20260422T111705Z
UID:371ea8b4-7c47-44fd-851e-6752ac7182b1
CREATED:20260422T111705Z
NAME:Koningsdrive Bridgeclub Steenbergen kijkopsteenbergen.nl
X-WR-CALNAME:Koningsdrive Bridgeclub Steenbergen
X-ALT-DESC;FMTTYPE=text/html:<a href='/agenda/2026/4/27/koningsdrive-bridgeclub-steenbergen-34505'>/agenda/2026/4/27/koningsdrive-bridgeclub-steenbergen-34505</a> || <p pstyle="Intro">Op maandag 27 april organiseert Bridgeclub Steenbergen Bridge haar jaarlijkse Koningsdrive. Bridgeliefhebbers zijn op Koningsdag van harte welkom in Gemeenschapshuis de Vaert, waar de zitting om 13:30 uur van start gaat. De zaal is geopend vanaf 13:00 uur.&nbsp;</p><p pstyle="A - Tekst">De bridgeclub laat weten dat er gespeeld wordt in groepen die naar sterkte worden ingedeeld. Deze groepen nemen deel aan één zitting van 28 spellen die is opgedeeld in 7 ronden van 4 spellen. Kosten voor deelname aan de Koningsdrive bedragen 25 euro per paar, dit is inclusief hapjes. Geïnteresseerden kunnen zich tot 23 april aanmelden door het inschrijfgeld over te maken naar rekeningnummer NL90 RABO 0111 5943 16 t.n.v. Steenbergen Bridge onder vermelding van de paarnamen. Daarnaast dient men ook een mail te sturen naar&nbsp;<a href="mailto:mvdkreek@kpnmail.nl">mvdkreek@kpnmail.nl</a> onder vermelding van de paarnamen en groep A, B of C. Het is ook mogelijk telefonisch op te geven via het telefoonnummer 06-13504273.</p>
DESCRIPTION:<a href='/agenda/2026/4/27/koningsdrive-bridgeclub-steenbergen-34505'>/agenda/2026/4/27/koningsdrive-bridgeclub-steenbergen-34505</a> || <p pstyle="Intro">Op maandag 27 april organiseert Bridgeclub Steenbergen Bridge haar jaarlijkse Koningsdrive. Bridgeliefhebbers zijn op Koningsdag van harte welkom in Gemeenschapshuis de Vaert, waar de zitting om 13:30 uur van start gaat. De zaal is geopend vanaf 13:00 uur.&nbsp;</p><p pstyle="A - Tekst">De bridgeclub laat weten dat er gespeeld wordt in groepen die naar sterkte worden ingedeeld. Deze groepen nemen deel aan één zitting van 28 spellen die is opgedeeld in 7 ronden van 4 spellen. Kosten voor deelname aan de Koningsdrive bedragen 25 euro per paar, dit is inclusief hapjes. Geïnteresseerden kunnen zich tot 23 april aanmelden door het inschrijfgeld over te maken naar rekeningnummer NL90 RABO 0111 5943 16 t.n.v. Steenbergen Bridge onder vermelding van de paarnamen. Daarnaast dient men ook een mail te sturen naar&nbsp;<a href="mailto:mvdkreek@kpnmail.nl">mvdkreek@kpnmail.nl</a> onder vermelding van de paarnamen en groep A, B of C. Het is ook mogelijk telefonisch op te geven via het telefoonnummer 06-13504273.</p>
LAST-MODIFIED:20260422T111705Z
LOCATION: Gemeenschapshuis de Vaert | Piet Snoeijersstraat 2 Welberg
SEQUENCE:0
STATUS:CONFIRMED
SUMMARY:Koningsdrive Bridgeclub Steenbergen
TRANSP:OPAQUE
END:VEVENT
END:VCALENDAR
