BEGIN:VCALENDAR
PRODID:-//PUBBLE//agenda//NL
VERSION:2.0
METHOD:PUBLISH
BEGIN:VEVENT
DTSTART:20260501T173000Z
DTEND:20260501T183000Z
DTSTAMP:20260420T085158Z
UID:2a234cc8-7bbd-4e72-931d-66eff22f19ce
CREATED:20260420T085158Z
NAME:Boekpresentatie ‘Tussen lef en angst’ kijkopsteenbergen.nl
X-WR-CALNAME:Boekpresentatie ‘Tussen lef en angst’
X-ALT-DESC;FMTTYPE=text/html:<a href='/agenda/2026/5/1/boekpresentatie-tussen-lef-en-angst-34465'>/agenda/2026/5/1/boekpresentatie-tussen-lef-en-angst-34465</a> || <p>Vrijdag 1 mei vindt vanaf 19:30 uur in het Dorpshuis de boekpresentatie plaats van het nieuwe boek ‘Tussen lef en angst’ van auteur Peter Kop uit Dinteloord. Tijdens deze bijeenkomst neemt burgemeester Ruud van den Belt het eerste exemplaar in ontvangst.</p><p>‘Tussen lef en angst’ is een indrukwekkend boek over het leven in Dinteloord tijdens de Tweede Wereldoorlog. In 240 pagina’s beschrijft Peter Kop de bezetting van Dinteloord vanuit een lokaal perspectief: smokkelroutes, verzetswerk, neergestorte vliegtuigen en het dagelijkse leven onder druk van angst en onderdrukking. De auteur wil met zijn boek de oorlogsgeschiedenis van Dinteloord tastbaar maken en doorgeven aan volgende generaties. De boekpresentatie is bedoeld voor iedereen die geïnteresseerd is in de geschiedenis van Dinteloord en het herdenken.&nbsp;</p>
DESCRIPTION:<a href='/agenda/2026/5/1/boekpresentatie-tussen-lef-en-angst-34465'>/agenda/2026/5/1/boekpresentatie-tussen-lef-en-angst-34465</a> || <p>Vrijdag 1 mei vindt vanaf 19:30 uur in het Dorpshuis de boekpresentatie plaats van het nieuwe boek ‘Tussen lef en angst’ van auteur Peter Kop uit Dinteloord. Tijdens deze bijeenkomst neemt burgemeester Ruud van den Belt het eerste exemplaar in ontvangst.</p><p>‘Tussen lef en angst’ is een indrukwekkend boek over het leven in Dinteloord tijdens de Tweede Wereldoorlog. In 240 pagina’s beschrijft Peter Kop de bezetting van Dinteloord vanuit een lokaal perspectief: smokkelroutes, verzetswerk, neergestorte vliegtuigen en het dagelijkse leven onder druk van angst en onderdrukking. De auteur wil met zijn boek de oorlogsgeschiedenis van Dinteloord tastbaar maken en doorgeven aan volgende generaties. De boekpresentatie is bedoeld voor iedereen die geïnteresseerd is in de geschiedenis van Dinteloord en het herdenken.&nbsp;</p>
LAST-MODIFIED:20260420T085158Z
LOCATION: Dorpshuis | Westvoorstraat 3 Dinteloord
SEQUENCE:0
STATUS:CONFIRMED
SUMMARY:Boekpresentatie ‘Tussen lef en angst’
TRANSP:OPAQUE
END:VEVENT
END:VCALENDAR
