BEGIN:VCALENDAR
PRODID:-//PUBBLE//agenda//NL
VERSION:2.0
METHOD:PUBLISH
BEGIN:VEVENT
DTSTART:20260530T080000Z
DTEND:20260530T140000Z
DTSTAMP:20260422T092649Z
UID:f12b304d-267b-4ffa-8e7d-017747ec2d08
CREATED:20260422T092649Z
NAME:Open dag waterschap Brabantse Delta kijkopsteenbergen.nl
X-WR-CALNAME:Open dag waterschap Brabantse Delta
X-ALT-DESC;FMTTYPE=text/html:<a href='/agenda/2026/5/30/open-dag-waterschap-brabantse-delta-34449'>/agenda/2026/5/30/open-dag-waterschap-brabantse-delta-34449</a> || <p pstyle="Kop 24pt ">Op zaterdag 30 mei krijgen geïnteresseerden de kans om een kijkje achter de schermen te nemen bij het sluizencomplex Dintelsas tijdens de Open Dag van Waterschap Brabantse Delta. Op en rond de Manderssluis en Vierlinghsluis is van 10:00 tot 16:00 uur van alles te beleven voor jong en oud.</p><p pstyle="A - Tekst">Zo kan men deelnemen aan een rondvaart met de Delta 1, een blusboot in actie zien en live meekijken in de sluis via een speciale cameraopstelling. Het is deze dag ook mogelijk om het bedieningsgebouw van de sluis te bezoeken. Kinderen kunnen met een stempelkaart opdrachten doen om hun dijkwachtersdiploma te halen. Zo kunnen ze zelf zandzakken vullen met minikraantjes, waterdiertjes scheppen, spelen met water en zich laten schminken. Tot slot is er de mogelijkheid meer te leren over de werking van de sluizen en verschillende voertuigen en machines van het waterschap van dichtbij te bekijken. Veel zaken zijn een hele dag door te beleven, voor sommige demonstraties zijn er vaste tijden.</p><p pstyle="A - Tekst">Toegang tot de Open Dag is gratis. Wie met de auto komt wordt aangeraden te navigeren naar Sasdijk 10, bij het sluizencomplex kan gratis geparkeerd worden.</p>
DESCRIPTION:<a href='/agenda/2026/5/30/open-dag-waterschap-brabantse-delta-34449'>/agenda/2026/5/30/open-dag-waterschap-brabantse-delta-34449</a> || <p pstyle="Kop 24pt ">Op zaterdag 30 mei krijgen geïnteresseerden de kans om een kijkje achter de schermen te nemen bij het sluizencomplex Dintelsas tijdens de Open Dag van Waterschap Brabantse Delta. Op en rond de Manderssluis en Vierlinghsluis is van 10:00 tot 16:00 uur van alles te beleven voor jong en oud.</p><p pstyle="A - Tekst">Zo kan men deelnemen aan een rondvaart met de Delta 1, een blusboot in actie zien en live meekijken in de sluis via een speciale cameraopstelling. Het is deze dag ook mogelijk om het bedieningsgebouw van de sluis te bezoeken. Kinderen kunnen met een stempelkaart opdrachten doen om hun dijkwachtersdiploma te halen. Zo kunnen ze zelf zandzakken vullen met minikraantjes, waterdiertjes scheppen, spelen met water en zich laten schminken. Tot slot is er de mogelijkheid meer te leren over de werking van de sluizen en verschillende voertuigen en machines van het waterschap van dichtbij te bekijken. Veel zaken zijn een hele dag door te beleven, voor sommige demonstraties zijn er vaste tijden.</p><p pstyle="A - Tekst">Toegang tot de Open Dag is gratis. Wie met de auto komt wordt aangeraden te navigeren naar Sasdijk 10, bij het sluizencomplex kan gratis geparkeerd worden.</p>
LAST-MODIFIED:20260422T092649Z
LOCATION: Sluizencomplex Dintelsas | Sasdijk 10 Dinteloord
SEQUENCE:0
STATUS:CONFIRMED
SUMMARY:Open dag waterschap Brabantse Delta
TRANSP:OPAQUE
END:VEVENT
END:VCALENDAR
