BEGIN:VCALENDAR
PRODID:-//PUBBLE//agenda//NL
VERSION:2.0
METHOD:PUBLISH
BEGIN:VEVENT
DTSTART:20260614T120000Z
DTEND:20260614T130000Z
DTSTAMP:20260422T111928Z
UID:d3766078-201f-4803-89ad-2a9e5fa94576
CREATED:20260422T111928Z
NAME:‘Zo gaat ie goed, zo gaat ie beter’ door de Estrella’s kijkopsteenbergen.nl
X-WR-CALNAME:‘Zo gaat ie goed, zo gaat ie beter’ door de Estrella’s
X-ALT-DESC;FMTTYPE=text/html:<a href='/agenda/2026/6/14/zo-gaat-ie-goed-zo-gaat-ie-beter-door-de-estrellas-34397'>/agenda/2026/6/14/zo-gaat-ie-goed-zo-gaat-ie-beter-door-de-estrellas-34397</a> || <p>Met als titel ‘Zo gaat ie goed, Zo gaat ie beter’ verzorgen de twee Estrella’s - Esther du la Ron en Anjella Neelen - een benefietvoorstelling in theaterzaal ‘Het Evenement’ van het Cromwiel. Dat gebeurt op zondagmiddag 14 juni, aanvang 14:00 uur. De volledige opbrengst van de voorstelling gaat via hun vriendinnen Karin van de Merbel en Carla Tullenaar naar de actie voor Colsensation. Laatstgenoemd tweetal beklimt de inmiddels legendarische Mont Ventoux voor het KWF.</p><p pstyle="A - Tekst">&nbsp;Aan het eind van de voorstelling, die zo’n anderhalf uur duurt, wordt het opgehaalde bedrag bekend gemaakt. Er worden ook Gummaruskoeken verkocht. De opbrengst hiervan gaat eveneens naar het goede doel.</p><p pstyle="A - Tekst">Kaarten voor de benefietvoorstelling (à 12,50 per stuk) zijn verkrijgbaar door een mailbericht met daarin naam, telefoonnummer en aantal personen te sturen naar&nbsp;<a data-fr-linked="true" href="mailto:estrellaproducties@gmail.com">estrellaproducties@gmail.com</a> . Kaarten zijn eveneens verkrijgbaar in de Ontmoetingswinkel, Kaaistraat 30 te Steenbergen.</p>
DESCRIPTION:<a href='/agenda/2026/6/14/zo-gaat-ie-goed-zo-gaat-ie-beter-door-de-estrellas-34397'>/agenda/2026/6/14/zo-gaat-ie-goed-zo-gaat-ie-beter-door-de-estrellas-34397</a> || <p>Met als titel ‘Zo gaat ie goed, Zo gaat ie beter’ verzorgen de twee Estrella’s - Esther du la Ron en Anjella Neelen - een benefietvoorstelling in theaterzaal ‘Het Evenement’ van het Cromwiel. Dat gebeurt op zondagmiddag 14 juni, aanvang 14:00 uur. De volledige opbrengst van de voorstelling gaat via hun vriendinnen Karin van de Merbel en Carla Tullenaar naar de actie voor Colsensation. Laatstgenoemd tweetal beklimt de inmiddels legendarische Mont Ventoux voor het KWF.</p><p pstyle="A - Tekst">&nbsp;Aan het eind van de voorstelling, die zo’n anderhalf uur duurt, wordt het opgehaalde bedrag bekend gemaakt. Er worden ook Gummaruskoeken verkocht. De opbrengst hiervan gaat eveneens naar het goede doel.</p><p pstyle="A - Tekst">Kaarten voor de benefietvoorstelling (à 12,50 per stuk) zijn verkrijgbaar door een mailbericht met daarin naam, telefoonnummer en aantal personen te sturen naar&nbsp;<a data-fr-linked="true" href="mailto:estrellaproducties@gmail.com">estrellaproducties@gmail.com</a> . Kaarten zijn eveneens verkrijgbaar in de Ontmoetingswinkel, Kaaistraat 30 te Steenbergen.</p>
LAST-MODIFIED:20260422T111928Z
LOCATION: 't Cromwiel | Krommeweg 1 Steenbergen
SEQUENCE:0
STATUS:CONFIRMED
SUMMARY:‘Zo gaat ie goed, zo gaat ie beter’ door de Estrella’s
TRANSP:OPAQUE
END:VEVENT
END:VCALENDAR
