BEGIN:VCALENDAR
PRODID:-//PUBBLE//agenda//NL
VERSION:2.0
METHOD:PUBLISH
BEGIN:VEVENT
DTSTART:20260424T153000Z
DTEND:20260424T163000Z
DTSTAMP:20260422T090029Z
UID:ece9abe1-0596-4059-8996-4881bde6f934
CREATED:20260422T090029Z
NAME:Koningsavondfeest de Heen kijkopsteenbergen.nl
X-WR-CALNAME:Koningsavondfeest de Heen
X-ALT-DESC;FMTTYPE=text/html:<a href='/agenda/2026/4/24/koningsavondfeest-de-heen-34340'>/agenda/2026/4/24/koningsavondfeest-de-heen-34340</a> || <p>Evenementencommissie de Heen laat weten weer een gezellige activiteit op het programma te hebben staan. Op vrijdag 24 april zijn feestvierders namelijk welkom in de Stelle voor een Koningsavondfeest. De avond begint om 17:30 uur met frietjes, snacks en een gratis drankje. Vervolgens vertrekt om 19:00 uur de stoet met versierde fietsen voor een rondwandeling door het dorp, waarna om 20:00 uur de prijsuitreiking volgt. Om 20:30 uur barst het oranje Koningsfeest los dat tot middernacht duurt. Wie mee wil eten of mee wil rijden met een versierde fiets kan zich opgeven via de website: <a href="https://www.evenementendeheen.nl/" target="_blank">www.evenementendeheen.nl</a> .</p>
DESCRIPTION:<a href='/agenda/2026/4/24/koningsavondfeest-de-heen-34340'>/agenda/2026/4/24/koningsavondfeest-de-heen-34340</a> || <p>Evenementencommissie de Heen laat weten weer een gezellige activiteit op het programma te hebben staan. Op vrijdag 24 april zijn feestvierders namelijk welkom in de Stelle voor een Koningsavondfeest. De avond begint om 17:30 uur met frietjes, snacks en een gratis drankje. Vervolgens vertrekt om 19:00 uur de stoet met versierde fietsen voor een rondwandeling door het dorp, waarna om 20:00 uur de prijsuitreiking volgt. Om 20:30 uur barst het oranje Koningsfeest los dat tot middernacht duurt. Wie mee wil eten of mee wil rijden met een versierde fiets kan zich opgeven via de website: <a href="https://www.evenementendeheen.nl/" target="_blank">www.evenementendeheen.nl</a> .</p>
LAST-MODIFIED:20260422T090029Z
LOCATION: Gemeenschapshuis de Stelle | Dorpsweg 57 De Heen
SEQUENCE:0
STATUS:CONFIRMED
SUMMARY:Koningsavondfeest de Heen
TRANSP:OPAQUE
END:VEVENT
END:VCALENDAR
