BEGIN:VCALENDAR
PRODID:-//PUBBLE//agenda//NL
VERSION:2.0
METHOD:PUBLISH
BEGIN:VEVENT
DTSTART:20260503T073000Z
DTEND:20260503T083000Z
DTSTAMP:20260422T111136Z
UID:be465b1f-0877-4f90-9e50-954bec62cefd
CREATED:20260422T111136Z
NAME:Survivalrun Steenbergen kijkopsteenbergen.nl
X-WR-CALNAME:Survivalrun Steenbergen
X-ALT-DESC;FMTTYPE=text/html:<a href='/agenda/2026/5/3/survivalrun-steenbergen-34164'>/agenda/2026/5/3/survivalrun-steenbergen-34164</a> || <p>Zondag 3 mei vindt de 26e survivalrun Steenbergen plaats. Dan zullen de thans 600 deelnemers een parcours af leggen waarin twee lussen zijn opgenomen: een van 6 kilometer lengte en een van 9 kilometer. Op dat parcours heeft de organiserende Diomedonafdeling Survival 28 hindernissen opgebouwd. De start op 3 mei is voor de wedstrijdgroepen vanaf 9:30 uur, voor de recreanten is dat vanaf 11:00 uur.</p><p pstyle="A - Tekst">De inschrijftermijn voor de wedstrijdlopers is inmiddels gesloten. Recreanten kunnen nog tot 20 april inschrijven, tenminste zolang er startshirts beschikbaar zijn. Recreanten kunnen zich inschrijven voor de 9 kilometer of de 6 kilometer. Dit kan individueel, als koppel of als team. Ook is er een Ouder-Kid-categorie en er is een kindsrun met een lengte van 3,5 kilometer.<br />Start en finish zijn zoals gebruikelijk op het atletiekterrein van Diomedon op het sportpark aan de Seringenlaan. Hier staan ook de foodtrucks en de sportkleding shops terwijl er ook bijzondere hindernissen zijn als sluitstuk.</p>
DESCRIPTION:<a href='/agenda/2026/5/3/survivalrun-steenbergen-34164'>/agenda/2026/5/3/survivalrun-steenbergen-34164</a> || <p>Zondag 3 mei vindt de 26e survivalrun Steenbergen plaats. Dan zullen de thans 600 deelnemers een parcours af leggen waarin twee lussen zijn opgenomen: een van 6 kilometer lengte en een van 9 kilometer. Op dat parcours heeft de organiserende Diomedonafdeling Survival 28 hindernissen opgebouwd. De start op 3 mei is voor de wedstrijdgroepen vanaf 9:30 uur, voor de recreanten is dat vanaf 11:00 uur.</p><p pstyle="A - Tekst">De inschrijftermijn voor de wedstrijdlopers is inmiddels gesloten. Recreanten kunnen nog tot 20 april inschrijven, tenminste zolang er startshirts beschikbaar zijn. Recreanten kunnen zich inschrijven voor de 9 kilometer of de 6 kilometer. Dit kan individueel, als koppel of als team. Ook is er een Ouder-Kid-categorie en er is een kindsrun met een lengte van 3,5 kilometer.<br />Start en finish zijn zoals gebruikelijk op het atletiekterrein van Diomedon op het sportpark aan de Seringenlaan. Hier staan ook de foodtrucks en de sportkleding shops terwijl er ook bijzondere hindernissen zijn als sluitstuk.</p>
LAST-MODIFIED:20260422T111136Z
LOCATION: Sportpark | Seringenlaan 1 Steenbergen
SEQUENCE:0
STATUS:CONFIRMED
SUMMARY:Survivalrun Steenbergen
TRANSP:OPAQUE
END:VEVENT
END:VCALENDAR
