BEGIN:VCALENDAR
PRODID:-//PUBBLE//agenda//NL
VERSION:2.0
METHOD:PUBLISH
BEGIN:VEVENT
DTSTART:20260129T080000Z
DTEND:20260129T093000Z
DTSTAMP:20260422T093421Z
UID:a89fa1d0-cddc-47be-b605-a86343ea6721
CREATED:20260422T093421Z
NAME:Koffieochtend Seniorenvereniging Dinteloord kijkopsteenbergen.nl
X-WR-CALNAME:Koffieochtend Seniorenvereniging Dinteloord
X-ALT-DESC;FMTTYPE=text/html:<a href='/agenda/2026/1/29/koffieochtend-seniorenvereniging-dinteloord-34013'>/agenda/2026/1/29/koffieochtend-seniorenvereniging-dinteloord-34013</a> || <p>Op donderdag 29 januari staat er weer een koffieochtend op het programma van Seniorenvereniging Dinteloord. Voor de eerste koffie-ochtend van het jaar heeft de vereniging tomatenkwekerij Lans bereid gevonden om de aanwezigen van een kopje koffie of thee te voorzien. Belangstellenden kunnen vanaf 09:45 uur verzamelen op de parkeerplaats aan de Willemspolderweg 2. Vervolgens wordt men om 10:00 uur ontvangen met koffie of thee en iets lekkers namens Lans. Operationeel Directeur Dinteloord Jan van Marrewijk zal hierbij een korte bedrijfspresentatie geven. Mocht er nog tijd en belangstelling zijn dan is er nog ruimte voor een rondleiding door de kas, de organisatie geeft aan dat dit wel een behoorlijk stuk lopen is. Zij die niet meegaan mogen blijven zitten en genieten van een extra bakje koffie of kopje thee. Om 11:30 uur is het bezoek afgelopen. Iedereen van 50 jaar en ouder is deze ochtend welkom, men hoeft geen lid te zijn van de seniorenvereniging.</p>
DESCRIPTION:<a href='/agenda/2026/1/29/koffieochtend-seniorenvereniging-dinteloord-34013'>/agenda/2026/1/29/koffieochtend-seniorenvereniging-dinteloord-34013</a> || <p>Op donderdag 29 januari staat er weer een koffieochtend op het programma van Seniorenvereniging Dinteloord. Voor de eerste koffie-ochtend van het jaar heeft de vereniging tomatenkwekerij Lans bereid gevonden om de aanwezigen van een kopje koffie of thee te voorzien. Belangstellenden kunnen vanaf 09:45 uur verzamelen op de parkeerplaats aan de Willemspolderweg 2. Vervolgens wordt men om 10:00 uur ontvangen met koffie of thee en iets lekkers namens Lans. Operationeel Directeur Dinteloord Jan van Marrewijk zal hierbij een korte bedrijfspresentatie geven. Mocht er nog tijd en belangstelling zijn dan is er nog ruimte voor een rondleiding door de kas, de organisatie geeft aan dat dit wel een behoorlijk stuk lopen is. Zij die niet meegaan mogen blijven zitten en genieten van een extra bakje koffie of kopje thee. Om 11:30 uur is het bezoek afgelopen. Iedereen van 50 jaar en ouder is deze ochtend welkom, men hoeft geen lid te zijn van de seniorenvereniging.</p>
LAST-MODIFIED:20260422T093421Z
LOCATION: Lans Dinteloord | Symbiose 9 Dinteloord
SEQUENCE:0
STATUS:CONFIRMED
SUMMARY:Koffieochtend Seniorenvereniging Dinteloord
TRANSP:OPAQUE
END:VEVENT
END:VCALENDAR
