BEGIN:VCALENDAR
PRODID:-//PUBBLE//agenda//NL
VERSION:2.0
METHOD:PUBLISH
BEGIN:VEVENT
DTSTART:20260201T170000Z
DTEND:20260201T180000Z
DTSTAMP:20260420T001338Z
UID:7721bdca-f5cb-4280-a2a3-f382d7606564
CREATED:20260420T001338Z
NAME:Herdenking Watersnoodramp kijkopsteenbergen.nl
X-WR-CALNAME:Herdenking Watersnoodramp
X-ALT-DESC;FMTTYPE=text/html:<a href='/agenda/2026/2/1/herdenking-watersnoodramp-34012'>/agenda/2026/2/1/herdenking-watersnoodramp-34012</a> || <p>Het is op 1 februari 73 jaar geleden dat de Watersnoodramp van 1953 plaatsvond. Ter nagedachtenis aan alle slachtoffers en om stil te staan bij deze ingrijpende gebeurtenis wordt de ramp op zondag 1 februari herdacht in Nieuw-Vossemeer, dat tijdens de stormvloed 50 inwoners verloor.</p><p pstyle="A - Tekst">Wethouder Remery legt die zondag om 19:00 uur een krans bij het monument op de Hoogte. Ook zal hij een korte toespraak houden. Iedereen die stil wil staan bij de ingrijpende gebeurtenis, troost zoekt of steun wil geven is van harte welkom om bij de herdenking aanwezig te zijn. Daarna is er de ruimte om de indrukwekkende tijdelijke tentoonstelling in het A.M. de Jongmuseum te bezichtigen. Speciaal voor de herdenking is het museum aan de Voorstraat die zondag geopend van 13:30 tot 21:00 uur. Wie niet in de gelegenheid is zondag naar de Voorstraat te komen maar wel de tentoonstelling wil bezichtigen kan overigens ook op zaterdag 31 januari van 13:30 tot 16:30 uur terecht in het museum.</p>
DESCRIPTION:<a href='/agenda/2026/2/1/herdenking-watersnoodramp-34012'>/agenda/2026/2/1/herdenking-watersnoodramp-34012</a> || <p>Het is op 1 februari 73 jaar geleden dat de Watersnoodramp van 1953 plaatsvond. Ter nagedachtenis aan alle slachtoffers en om stil te staan bij deze ingrijpende gebeurtenis wordt de ramp op zondag 1 februari herdacht in Nieuw-Vossemeer, dat tijdens de stormvloed 50 inwoners verloor.</p><p pstyle="A - Tekst">Wethouder Remery legt die zondag om 19:00 uur een krans bij het monument op de Hoogte. Ook zal hij een korte toespraak houden. Iedereen die stil wil staan bij de ingrijpende gebeurtenis, troost zoekt of steun wil geven is van harte welkom om bij de herdenking aanwezig te zijn. Daarna is er de ruimte om de indrukwekkende tijdelijke tentoonstelling in het A.M. de Jongmuseum te bezichtigen. Speciaal voor de herdenking is het museum aan de Voorstraat die zondag geopend van 13:30 tot 21:00 uur. Wie niet in de gelegenheid is zondag naar de Voorstraat te komen maar wel de tentoonstelling wil bezichtigen kan overigens ook op zaterdag 31 januari van 13:30 tot 16:30 uur terecht in het museum.</p>
LAST-MODIFIED:20260420T001338Z
LOCATION: Watersnoodmonument | Hoogte  Nieuw-Vossemeer
SEQUENCE:0
STATUS:CONFIRMED
SUMMARY:Herdenking Watersnoodramp
TRANSP:OPAQUE
END:VEVENT
END:VCALENDAR
