BEGIN:VCALENDAR
PRODID:-//PUBBLE//agenda//NL
VERSION:2.0
METHOD:PUBLISH
BEGIN:VEVENT
DTSTART:20260123T180000Z
DTEND:20260223T230000Z
DTSTAMP:20260423T192804Z
UID:02626953-5093-4b68-9abb-eb4190728a22
CREATED:20260423T192804Z
NAME:BC De Hoogte & Jan Keller Bal kijkopsteenbergen.nl
X-WR-CALNAME:BC De Hoogte & Jan Keller Bal
X-ALT-DESC;FMTTYPE=text/html:<a href='/agenda/2026/1/23/bc-de-hoogte-jan-keller-bal-33961'>/agenda/2026/1/23/bc-de-hoogte-jan-keller-bal-33961</a> || <p>Op vrijdag 23 januari organiseert BC De Hoogte samen met c.v. ‘t Vosse-ol het B.C. De Hoogte &amp; Jan Keller Bal. Jong en oud is vanaf 20:11 uur welkom in het ‘bouwkot’ te Hoogte 1, waar de Vosmeerse bouwclub haar wagen voor dit jaar aan het publiek zal presenteren. Het feest wordt compleet gemaakt met live muziek, verfrissende drankjes voor een leutige prijs en volop gezelligheid. De bouwclub nodigt iedereen van harte uit voor een gezellige feestavond.</p>
DESCRIPTION:<a href='/agenda/2026/1/23/bc-de-hoogte-jan-keller-bal-33961'>/agenda/2026/1/23/bc-de-hoogte-jan-keller-bal-33961</a> || <p>Op vrijdag 23 januari organiseert BC De Hoogte samen met c.v. ‘t Vosse-ol het B.C. De Hoogte &amp; Jan Keller Bal. Jong en oud is vanaf 20:11 uur welkom in het ‘bouwkot’ te Hoogte 1, waar de Vosmeerse bouwclub haar wagen voor dit jaar aan het publiek zal presenteren. Het feest wordt compleet gemaakt met live muziek, verfrissende drankjes voor een leutige prijs en volop gezelligheid. De bouwclub nodigt iedereen van harte uit voor een gezellige feestavond.</p>
LAST-MODIFIED:20260423T192804Z
LOCATION: Bouwkot BC De Hoogte | Hoogte 17 Nieuw-Vossemeer
SEQUENCE:0
STATUS:CONFIRMED
SUMMARY:BC De Hoogte & Jan Keller Bal
TRANSP:OPAQUE
END:VEVENT
END:VCALENDAR
