BEGIN:VCALENDAR
PRODID:-//PUBBLE//agenda//NL
VERSION:2.0
METHOD:PUBLISH
BEGIN:VEVENT
DTSTART:20260122T113000Z
DTEND:20260122T123000Z
DTSTAMP:20260420T045819Z
UID:c7ac1b96-765d-4bd4-bba2-fb70fc6fedf4
CREATED:20260420T045819Z
NAME:Themamiddag Seniorenvereniging Dinteloord kijkopsteenbergen.nl
X-WR-CALNAME:Themamiddag Seniorenvereniging Dinteloord
X-ALT-DESC;FMTTYPE=text/html:<a href='/agenda/2026/1/22/themamiddag-seniorenvereniging-dinteloord-33937'>/agenda/2026/1/22/themamiddag-seniorenvereniging-dinteloord-33937</a> || <p pstyle="Intro">Op donderdag 22 januari staat er een themamiddag rondom de film ‘Merijntje Gijzens Jeugd’ op het programma voor de Dinteloordse senioren. Marc van Tienen is die dag aanwezig om over de film te vertellen en Elly Hellemons vertelt over haar ervaringen met het spelen van Blozekriekske. Aansluitend wordt de film getoond. &nbsp;</p><p pstyle="A - Tekst">Vanaf 13:00 uur zijn belangstellenden welkom in het Dorpshuis, men wordt om 13:30 uur welkom geheten met koffie of thee en een Vossemeerse Merijntjekoek. Wie de middag bij wil wonen dient zich aan te melden via de nieuwsbrief. Kosten voor de themamiddag bedragen 10 euro per persoon voor leden en 12,50 voor niet-leden, dit is inclusief koffie of thee, Merijntjekoek en een consumptie.</p>
DESCRIPTION:<a href='/agenda/2026/1/22/themamiddag-seniorenvereniging-dinteloord-33937'>/agenda/2026/1/22/themamiddag-seniorenvereniging-dinteloord-33937</a> || <p pstyle="Intro">Op donderdag 22 januari staat er een themamiddag rondom de film ‘Merijntje Gijzens Jeugd’ op het programma voor de Dinteloordse senioren. Marc van Tienen is die dag aanwezig om over de film te vertellen en Elly Hellemons vertelt over haar ervaringen met het spelen van Blozekriekske. Aansluitend wordt de film getoond. &nbsp;</p><p pstyle="A - Tekst">Vanaf 13:00 uur zijn belangstellenden welkom in het Dorpshuis, men wordt om 13:30 uur welkom geheten met koffie of thee en een Vossemeerse Merijntjekoek. Wie de middag bij wil wonen dient zich aan te melden via de nieuwsbrief. Kosten voor de themamiddag bedragen 10 euro per persoon voor leden en 12,50 voor niet-leden, dit is inclusief koffie of thee, Merijntjekoek en een consumptie.</p>
LAST-MODIFIED:20260420T045819Z
LOCATION: Dorpshuis | Westvoorstraat 3 Dinteloord
SEQUENCE:0
STATUS:CONFIRMED
SUMMARY:Themamiddag Seniorenvereniging Dinteloord
TRANSP:OPAQUE
END:VEVENT
END:VCALENDAR
