BEGIN:VCALENDAR
PRODID:-//PUBBLE//agenda//NL
VERSION:2.0
METHOD:PUBLISH
BEGIN:VEVENT
DTSTART:20260104T150000Z
DTEND:20260104T160000Z
DTSTAMP:20260423T113800Z
UID:1692bf68-0f3e-448a-8831-18202b59aaa6
CREATED:20260423T113800Z
NAME:Verlichte Trekkertourtocht kijkopsteenbergen.nl
X-WR-CALNAME:Verlichte Trekkertourtocht
X-ALT-DESC;FMTTYPE=text/html:<a href='/agenda/2026/1/4/verlichte-trekkertourtocht-33890'>/agenda/2026/1/4/verlichte-trekkertourtocht-33890</a> || <p>Op zondag 4 januari zorgen ZLTO en KPJ Steenbergen samen met een groot aantal tractorbestuurders voor licht in de donkere dagen met de verlichte trekkertourtocht. Voor de derde editie heeft de organisatie uitgepakt, want er is dit jaar ruimte voor maximaal 75 verlichte trekkers die vanuit het startpunt in Nieuw-Vossemeer via de kernen naar Kruisland zullen rijden. De route start dit jaar om 17:00 uur bij Sportpark de Danen in Nieuw-Vossemeer, waarna Notendaal en Steenbergen aangedaan worden. De weg naar Kruisland wordt vervolgd via Welberg en de Corneliusstraat. Eenmaal in Kruisland rijdt de stoet via de Langeweg en langs de Commerce naar eindlocatie Gastelsfeer, waar de deelnemers een afsluitende maaltijd kunnen nuttigen.</p><p><strong>De route:</strong></p><p><strong>NIEUW-VOSSEMEER:</strong> 17.00 uur vertrek vanaf Sportpark de Danen - Assumburgweg - Burgemeester Catshoeklaan. <strong>NOTENDAAL (17.20 uur):</strong> Oude Heijdijk - Princeweg - Zeelandweg-Oost. <strong>STEENBERGEN (17:45 uur):</strong> Kade - Kaaistraat - Grote Kerkstraat - Kerkplein - Kruispoort - Nassaulaan - Rondweg Oost. <strong>WELBERG (18:15 uur):</strong> Wipstraat - Kapelaan Kockstraat - Corneliusstraat - Welbergsedijk - Welbergswegje - Afgeslechtedijk - Kruislandsedijk - Langeweg. <strong>KRUISLAND (18:45 uur):</strong> Markt - Molenstraat - Gastelseweg - Gastelsedijk Zuid - 19:00 - 19:15 uur: aankomst Gastelsfeer.</p>
DESCRIPTION:<a href='/agenda/2026/1/4/verlichte-trekkertourtocht-33890'>/agenda/2026/1/4/verlichte-trekkertourtocht-33890</a> || <p>Op zondag 4 januari zorgen ZLTO en KPJ Steenbergen samen met een groot aantal tractorbestuurders voor licht in de donkere dagen met de verlichte trekkertourtocht. Voor de derde editie heeft de organisatie uitgepakt, want er is dit jaar ruimte voor maximaal 75 verlichte trekkers die vanuit het startpunt in Nieuw-Vossemeer via de kernen naar Kruisland zullen rijden. De route start dit jaar om 17:00 uur bij Sportpark de Danen in Nieuw-Vossemeer, waarna Notendaal en Steenbergen aangedaan worden. De weg naar Kruisland wordt vervolgd via Welberg en de Corneliusstraat. Eenmaal in Kruisland rijdt de stoet via de Langeweg en langs de Commerce naar eindlocatie Gastelsfeer, waar de deelnemers een afsluitende maaltijd kunnen nuttigen.</p><p><strong>De route:</strong></p><p><strong>NIEUW-VOSSEMEER:</strong> 17.00 uur vertrek vanaf Sportpark de Danen - Assumburgweg - Burgemeester Catshoeklaan. <strong>NOTENDAAL (17.20 uur):</strong> Oude Heijdijk - Princeweg - Zeelandweg-Oost. <strong>STEENBERGEN (17:45 uur):</strong> Kade - Kaaistraat - Grote Kerkstraat - Kerkplein - Kruispoort - Nassaulaan - Rondweg Oost. <strong>WELBERG (18:15 uur):</strong> Wipstraat - Kapelaan Kockstraat - Corneliusstraat - Welbergsedijk - Welbergswegje - Afgeslechtedijk - Kruislandsedijk - Langeweg. <strong>KRUISLAND (18:45 uur):</strong> Markt - Molenstraat - Gastelseweg - Gastelsedijk Zuid - 19:00 - 19:15 uur: aankomst Gastelsfeer.</p>
LAST-MODIFIED:20260423T113800Z
LOCATION: Sportpark de Danen | Assumburgweg 1 Nieuw-Vossemeer
SEQUENCE:0
STATUS:CONFIRMED
SUMMARY:Verlichte Trekkertourtocht
TRANSP:OPAQUE
END:VEVENT
END:VCALENDAR
